BEGIN:VCALENDAR
VERSION:2.0
PRODID:-//Dalberg - ECPv6.15.13.1//NONSGML v1.0//EN
CALSCALE:GREGORIAN
METHOD:PUBLISH
X-WR-CALNAME:Dalberg
X-ORIGINAL-URL:https://www.dalberg-gymnasium.de
X-WR-CALDESC:Veranstaltungen für Dalberg
REFRESH-INTERVAL;VALUE=DURATION:PT1H
X-Robots-Tag:noindex
X-PUBLISHED-TTL:PT1H
BEGIN:VTIMEZONE
TZID:Europe/Berlin
BEGIN:DAYLIGHT
TZOFFSETFROM:+0100
TZOFFSETTO:+0200
TZNAME:CEST
DTSTART:20200329T010000
END:DAYLIGHT
BEGIN:STANDARD
TZOFFSETFROM:+0200
TZOFFSETTO:+0100
TZNAME:CET
DTSTART:20201025T010000
END:STANDARD
BEGIN:DAYLIGHT
TZOFFSETFROM:+0100
TZOFFSETTO:+0200
TZNAME:CEST
DTSTART:20210328T010000
END:DAYLIGHT
BEGIN:STANDARD
TZOFFSETFROM:+0200
TZOFFSETTO:+0100
TZNAME:CET
DTSTART:20211031T010000
END:STANDARD
BEGIN:DAYLIGHT
TZOFFSETFROM:+0100
TZOFFSETTO:+0200
TZNAME:CEST
DTSTART:20220327T010000
END:DAYLIGHT
BEGIN:STANDARD
TZOFFSETFROM:+0200
TZOFFSETTO:+0100
TZNAME:CET
DTSTART:20221030T010000
END:STANDARD
END:VTIMEZONE
BEGIN:VEVENT
DTSTART;VALUE=DATE:20210525
DTEND;VALUE=DATE:20210605
DTSTAMP:20260420T111234
CREATED:20201206T123816Z
LAST-MODIFIED:20201206T123816Z
UID:25285-1621900800-1622851199@www.dalberg-gymnasium.de
SUMMARY:Pfingstferien
DESCRIPTION:
URL:https://www.dalberg-gymnasium.de/event/pfingstferien-5
CATEGORIES:Schulablauf
END:VEVENT
BEGIN:VEVENT
DTSTART;VALUE=DATE:20210607
DTEND;VALUE=DATE:20210612
DTSTAMP:20260420T111235
CREATED:20201206T123857Z
LAST-MODIFIED:20201206T123857Z
UID:25288-1623024000-1623455999@www.dalberg-gymnasium.de
SUMMARY:Kolloquium (1. Woche)
DESCRIPTION:
URL:https://www.dalberg-gymnasium.de/event/kolloquium-1-woche-2
CATEGORIES:Schulablauf
END:VEVENT
BEGIN:VEVENT
DTSTART;VALUE=DATE:20210607
DTEND;VALUE=DATE:20210612
DTSTAMP:20260420T111235
CREATED:20210611T070206Z
LAST-MODIFIED:20210611T070316Z
UID:29018-1623024000-1623455999@www.dalberg-gymnasium.de
SUMMARY:Wechselunterricht 5.-10.; Präsenzunterricht Q11
DESCRIPTION:
URL:https://www.dalberg-gymnasium.de/event/wechselunterricht-5-10-praesenzunterricht-q11
CATEGORIES:Schulablauf
END:VEVENT
BEGIN:VEVENT
DTSTART;VALUE=DATE:20210614
DTEND;VALUE=DATE:20210619
DTSTAMP:20260420T111235
CREATED:20201206T123938Z
LAST-MODIFIED:20201206T123938Z
UID:25291-1623628800-1624060799@www.dalberg-gymnasium.de
SUMMARY:Kolloquium (2. Woche)
DESCRIPTION:
URL:https://www.dalberg-gymnasium.de/event/kolloquium-2-woche-2
CATEGORIES:Schulablauf
END:VEVENT
BEGIN:VEVENT
DTSTART;VALUE=DATE:20210614
DTEND;VALUE=DATE:20210619
DTSTAMP:20260420T111235
CREATED:20210611T070236Z
LAST-MODIFIED:20210611T070236Z
UID:29021-1623628800-1624060799@www.dalberg-gymnasium.de
SUMMARY:Präsenzunterricht in allen Jahrgangssstufen
DESCRIPTION:
URL:https://www.dalberg-gymnasium.de/event/praesenzunterricht-in-allen-jahrgangssstufen
CATEGORIES:Schulablauf
END:VEVENT
BEGIN:VEVENT
DTSTART;TZID=Europe/Berlin:20210616T190000
DTEND;TZID=Europe/Berlin:20210616T190000
DTSTAMP:20260420T111235
CREATED:20201206T124027Z
LAST-MODIFIED:20201206T124053Z
UID:25294-1623870000-1623870000@www.dalberg-gymnasium.de
SUMMARY:Jazznight
DESCRIPTION:
URL:https://www.dalberg-gymnasium.de/event/jazznight
LOCATION:Stadttheater Aschaffenburg
CATEGORIES:Schulablauf,Veranstaltung
END:VEVENT
BEGIN:VEVENT
DTSTART;VALUE=DATE:20210622
DTEND;VALUE=DATE:20210626
DTSTAMP:20260420T111235
CREATED:20201206T124132Z
LAST-MODIFIED:20201206T124132Z
UID:25297-1624320000-1624665599@www.dalberg-gymnasium.de
SUMMARY:mündliche Abiturprüfungen
DESCRIPTION:
URL:https://www.dalberg-gymnasium.de/event/muendliche-abiturpruefungen-4
CATEGORIES:Schulablauf
END:VEVENT
BEGIN:VEVENT
DTSTART;TZID=Europe/Berlin:20210629T190000
DTEND;TZID=Europe/Berlin:20210629T200000
DTSTAMP:20260420T111235
CREATED:20210625T110048Z
LAST-MODIFIED:20210625T110400Z
UID:29187-1624993200-1624996800@www.dalberg-gymnasium.de
SUMMARY:Sommerserenade
DESCRIPTION:
URL:https://www.dalberg-gymnasium.de/event/sommerserenade
LOCATION:Nilkheimer Park
CATEGORIES:Schulablauf,Veranstaltung
END:VEVENT
END:VCALENDAR