BEGIN:VCALENDAR
VERSION:2.0
PRODID:-//Dalberg - ECPv6.15.13.1//NONSGML v1.0//EN
CALSCALE:GREGORIAN
METHOD:PUBLISH
X-ORIGINAL-URL:https://www.dalberg-gymnasium.de
X-WR-CALDESC:Veranstaltungen für Dalberg
REFRESH-INTERVAL;VALUE=DURATION:PT1H
X-Robots-Tag:noindex
X-PUBLISHED-TTL:PT1H
BEGIN:VTIMEZONE
TZID:Europe/Berlin
BEGIN:DAYLIGHT
TZOFFSETFROM:+0100
TZOFFSETTO:+0200
TZNAME:CEST
DTSTART:20200329T010000
END:DAYLIGHT
BEGIN:STANDARD
TZOFFSETFROM:+0200
TZOFFSETTO:+0100
TZNAME:CET
DTSTART:20201025T010000
END:STANDARD
BEGIN:DAYLIGHT
TZOFFSETFROM:+0100
TZOFFSETTO:+0200
TZNAME:CEST
DTSTART:20210328T010000
END:DAYLIGHT
BEGIN:STANDARD
TZOFFSETFROM:+0200
TZOFFSETTO:+0100
TZNAME:CET
DTSTART:20211031T010000
END:STANDARD
BEGIN:DAYLIGHT
TZOFFSETFROM:+0100
TZOFFSETTO:+0200
TZNAME:CEST
DTSTART:20220327T010000
END:DAYLIGHT
BEGIN:STANDARD
TZOFFSETFROM:+0200
TZOFFSETTO:+0100
TZNAME:CET
DTSTART:20221030T010000
END:STANDARD
END:VTIMEZONE
BEGIN:VEVENT
DTSTART;VALUE=DATE:20210301
DTEND;VALUE=DATE:20210306
DTSTAMP:20260420T053130
CREATED:20210226T121320Z
LAST-MODIFIED:20210226T121320Z
UID:27392-1614556800-1614988799@www.dalberg-gymnasium.de
SUMMARY:Distanzunterricht 5.-11.
DESCRIPTION:
URL:https://www.dalberg-gymnasium.de/event/distanzunterricht-5-11-5
CATEGORIES:Schulablauf
END:VEVENT
BEGIN:VEVENT
DTSTART;VALUE=DATE:20210301
DTEND;VALUE=DATE:20210306
DTSTAMP:20260420T053130
CREATED:20210226T121351Z
LAST-MODIFIED:20210226T121351Z
UID:27395-1614556800-1614988799@www.dalberg-gymnasium.de
SUMMARY:Präsenzunterricht Q12
DESCRIPTION:
URL:https://www.dalberg-gymnasium.de/event/praesenzunterricht-q12-2
CATEGORIES:Schulablauf
END:VEVENT
BEGIN:VEVENT
DTSTART;TZID=Europe/Berlin:20210301T183000
DTEND;TZID=Europe/Berlin:20210301T193000
DTSTAMP:20260420T053130
CREATED:20210208T143808Z
LAST-MODIFIED:20210208T145152Z
UID:26906-1614623400-1614627000@www.dalberg-gymnasium.de
SUMMARY:Information zum bilingualen Unterricht (6. Klassen; digital)
DESCRIPTION:6. Klassen mit Englisch als 1. Fremdsprache
URL:https://www.dalberg-gymnasium.de/event/information-zum-bilingualen-unterricht-6-klassen-online
CATEGORIES:Schulablauf,Veranstaltung
END:VEVENT
BEGIN:VEVENT
DTSTART;TZID=Europe/Berlin:20210301T193000
DTEND;TZID=Europe/Berlin:20210301T203000
DTSTAMP:20260420T053130
CREATED:20210208T143923Z
LAST-MODIFIED:20210208T145148Z
UID:26909-1614627000-1614630600@www.dalberg-gymnasium.de
SUMMARY:Information zum bilingualen Unterricht (7c; digital)
DESCRIPTION:für Schüler*innen mit 1. Fremdsprache Französisch
URL:https://www.dalberg-gymnasium.de/event/information-zum-bilingualen-unterricht-7c-online
CATEGORIES:Schulablauf
END:VEVENT
BEGIN:VEVENT
DTSTART;TZID=Europe/Berlin:20210302T190000
DTEND;TZID=Europe/Berlin:20210302T200000
DTSTAMP:20260420T053130
CREATED:20210128T164802Z
LAST-MODIFIED:20210128T165056Z
UID:26439-1614711600-1614715200@www.dalberg-gymnasium.de
SUMMARY:Digitaler Elternabend der Handwerkskammer für Unterfranken
DESCRIPTION:Aufgrund des großen Interesses findet am Dienstag\, 02.03.2021\, von 19.00 bis 20.00 Uhr ein weiterer digitaler Elternabend der Handwerkskammer zur Vielfalt der Berufe im Handwerk statt (Zusatztermin: 16.03.2021). Der digitale Meeting-Raum ist ab 18.45 Uhr geöffnet. Es ist keine Registrierung notwendig. Einfach anklicken und dabei sein!
URL:https://www.dalberg-gymnasium.de/event/digitaler-elternabend-der-handwerkskammer-fuer-unterfranken-2
CATEGORIES:Berufliche Orientierung
END:VEVENT
BEGIN:VEVENT
DTSTART;VALUE=DATE:20210305
DTEND;VALUE=DATE:20210306
DTSTAMP:20260420T053130
CREATED:20201206T121726Z
LAST-MODIFIED:20210118T121633Z
UID:25198-1614902400-1614988799@www.dalberg-gymnasium.de
SUMMARY:Zeugnisse Q12/1
DESCRIPTION:
URL:https://www.dalberg-gymnasium.de/event/zeugnisse-q12-1-2
CATEGORIES:Schulablauf
END:VEVENT
BEGIN:VEVENT
DTSTART;VALUE=DATE:20210308
DTEND;VALUE=DATE:20210313
DTSTAMP:20260420T053130
CREATED:20210304T123435Z
LAST-MODIFIED:20210304T123435Z
UID:27540-1615161600-1615593599@www.dalberg-gymnasium.de
SUMMARY:Distanzunterricht 5.-11.
DESCRIPTION:
URL:https://www.dalberg-gymnasium.de/event/distanzunterricht-5-11-6
CATEGORIES:Schulablauf
END:VEVENT
BEGIN:VEVENT
DTSTART;VALUE=DATE:20210308
DTEND;VALUE=DATE:20210313
DTSTAMP:20260420T053130
CREATED:20210304T123458Z
LAST-MODIFIED:20210304T123458Z
UID:27543-1615161600-1615593599@www.dalberg-gymnasium.de
SUMMARY:Präsenzunterricht Q12
DESCRIPTION:
URL:https://www.dalberg-gymnasium.de/event/praesenzunterricht-q12-3
CATEGORIES:Schulablauf
END:VEVENT
BEGIN:VEVENT
DTSTART;TZID=Europe/Berlin:20210309T190000
DTEND;TZID=Europe/Berlin:20210309T200000
DTSTAMP:20260420T053130
CREATED:20210208T144017Z
LAST-MODIFIED:20210208T145145Z
UID:26912-1615316400-1615320000@www.dalberg-gymnasium.de
SUMMARY:Information zur Wahl der 3. Fremdsprache (7. Klassen sprachliches Gymnasium; digital)
DESCRIPTION:
URL:https://www.dalberg-gymnasium.de/event/information-zur-wahl-der-3-fremdsprache-7-klassen-sprachliches-gymnasium-online
CATEGORIES:Schulablauf,Veranstaltung
END:VEVENT
BEGIN:VEVENT
DTSTART;VALUE=DATE:20210315
DTEND;VALUE=DATE:20210320
DTSTAMP:20260420T053130
CREATED:20210304T123023Z
LAST-MODIFIED:20210312T095803Z
UID:27528-1615766400-1616198399@www.dalberg-gymnasium.de
SUMMARY:Distanzunterricht 5-11; Präsenzunterricht Q12
DESCRIPTION:
URL:https://www.dalberg-gymnasium.de/event/distanzunterricht-5-11-praesenzunterricht-q12-falls-inzidenz-100
CATEGORIES:Schulablauf
END:VEVENT
BEGIN:VEVENT
DTSTART;TZID=Europe/Berlin:20210316T190000
DTEND;TZID=Europe/Berlin:20210316T200000
DTSTAMP:20260420T053130
CREATED:20210128T165330Z
LAST-MODIFIED:20210128T165752Z
UID:26448-1615921200-1615924800@www.dalberg-gymnasium.de
SUMMARY:Digitaler Elternabend der Handwerkskammer für Unterfranken
DESCRIPTION:Aufgrund des großen Interesses findet am Dienstag\, 16.03.2021\, von 19.00 bis 20.00 Uhr ein digitaler Elternabend der Handwerkskammer zur Vielfalt der Berufe im Handwerk statt. Der digitale Meeting-Raum ist ab 18.45 Uhr geöffnet. Es ist keine Registrierung notwendig. Einfach anklicken und dabei sein!
URL:https://www.dalberg-gymnasium.de/event/digitaler-elternabend-der-handwerkskammer-fuer-unterfranken-3
CATEGORIES:Berufliche Orientierung
END:VEVENT
BEGIN:VEVENT
DTSTART;TZID=Europe/Berlin:20210317T183000
DTEND;TZID=Europe/Berlin:20210317T193000
DTSTAMP:20260420T053130
CREATED:20210208T145343Z
LAST-MODIFIED:20210208T145521Z
UID:26925-1616005800-1616009400@www.dalberg-gymnasium.de
SUMMARY:Information zur Wahl der spät beginnenden Fremdsprache (9. Klassen; digital)
DESCRIPTION:
URL:https://www.dalberg-gymnasium.de/event/information-zu-r-wahl-der-spaet-beginnenden-fremdsprache-9-klassen-digital
CATEGORIES:Schulablauf,Veranstaltung
END:VEVENT
BEGIN:VEVENT
DTSTART;TZID=Europe/Berlin:20210317T193000
DTEND;TZID=Europe/Berlin:20210317T203000
DTSTAMP:20260420T053130
CREATED:20210208T145426Z
LAST-MODIFIED:20210211T084406Z
UID:26928-1616009400-1616013000@www.dalberg-gymnasium.de
SUMMARY:Information zum AbiBac (9./10. Klassen; digital)
DESCRIPTION:
URL:https://www.dalberg-gymnasium.de/event/information-zum-abibac-10-klassen-digital
CATEGORIES:Schulablauf,Veranstaltung
END:VEVENT
BEGIN:VEVENT
DTSTART;VALUE=DATE:20210322
DTEND;VALUE=DATE:20210327
DTSTAMP:20260420T053130
CREATED:20210304T123136Z
LAST-MODIFIED:20210304T125300Z
UID:27534-1616371200-1616803199@www.dalberg-gymnasium.de
SUMMARY:Distanzunterricht 5-11; Präsenzunterricht Q12 (falls Inzidenz >100) [unter Vorbehalt]
DESCRIPTION:
URL:https://www.dalberg-gymnasium.de/event/distanzunterricht-5-11-praesenzunterricht-q12-falls-inzidenz-100-2
CATEGORIES:Schulablauf
END:VEVENT
BEGIN:VEVENT
DTSTART;VALUE=DATE:20210322
DTEND;VALUE=DATE:20210327
DTSTAMP:20260420T053130
CREATED:20210304T123404Z
LAST-MODIFIED:20210319T085006Z
UID:27537-1616371200-1616803199@www.dalberg-gymnasium.de
SUMMARY:Wechselunterricht 5-11; Präsenzunterricht Q12
DESCRIPTION:
URL:https://www.dalberg-gymnasium.de/event/wechselunterricht-5-11-praesenzunterricht-falls-inzidenz-zwischen-50-und-100-2
CATEGORIES:Schulablauf
END:VEVENT
BEGIN:VEVENT
DTSTART;VALUE=DATE:20210326
DTEND;VALUE=DATE:20210327
DTSTAMP:20260420T053130
CREATED:20201206T121901Z
LAST-MODIFIED:20210118T121714Z
UID:25207-1616716800-1616803199@www.dalberg-gymnasium.de
SUMMARY:Zeugnisse Q11/1
DESCRIPTION:
URL:https://www.dalberg-gymnasium.de/event/zeugnisse-q11-1
CATEGORIES:Schulablauf
END:VEVENT
BEGIN:VEVENT
DTSTART;VALUE=DATE:20210329
DTEND;VALUE=DATE:20210410
DTSTAMP:20260420T053130
CREATED:20201206T122636Z
LAST-MODIFIED:20201206T122636Z
UID:25236-1616976000-1618012799@www.dalberg-gymnasium.de
SUMMARY:Osterferien
DESCRIPTION:
URL:https://www.dalberg-gymnasium.de/event/osterferien-5
CATEGORIES:Schulablauf
END:VEVENT
END:VCALENDAR