BEGIN:VCALENDAR
VERSION:2.0
PRODID:-//Dalberg - ECPv6.15.13.1//NONSGML v1.0//EN
CALSCALE:GREGORIAN
METHOD:PUBLISH
X-WR-CALNAME:Dalberg
X-ORIGINAL-URL:https://www.dalberg-gymnasium.de
X-WR-CALDESC:Veranstaltungen für Dalberg
REFRESH-INTERVAL;VALUE=DURATION:PT1H
X-Robots-Tag:noindex
X-PUBLISHED-TTL:PT1H
BEGIN:VTIMEZONE
TZID:Europe/Berlin
BEGIN:DAYLIGHT
TZOFFSETFROM:+0100
TZOFFSETTO:+0200
TZNAME:CEST
DTSTART:20200329T010000
END:DAYLIGHT
BEGIN:STANDARD
TZOFFSETFROM:+0200
TZOFFSETTO:+0100
TZNAME:CET
DTSTART:20201025T010000
END:STANDARD
BEGIN:DAYLIGHT
TZOFFSETFROM:+0100
TZOFFSETTO:+0200
TZNAME:CEST
DTSTART:20210328T010000
END:DAYLIGHT
BEGIN:STANDARD
TZOFFSETFROM:+0200
TZOFFSETTO:+0100
TZNAME:CET
DTSTART:20211031T010000
END:STANDARD
BEGIN:DAYLIGHT
TZOFFSETFROM:+0100
TZOFFSETTO:+0200
TZNAME:CEST
DTSTART:20220327T010000
END:DAYLIGHT
BEGIN:STANDARD
TZOFFSETFROM:+0200
TZOFFSETTO:+0100
TZNAME:CET
DTSTART:20221030T010000
END:STANDARD
END:VTIMEZONE
BEGIN:VEVENT
DTSTART;VALUE=DATE:20210201
DTEND;VALUE=DATE:20210206
DTSTAMP:20260420T040145
CREATED:20210128T174559Z
LAST-MODIFIED:20210128T174559Z
UID:26461-1612137600-1612569599@www.dalberg-gymnasium.de
SUMMARY:Wechselunterricht Q12
DESCRIPTION:
URL:https://www.dalberg-gymnasium.de/event/wechselunterricht-q12
CATEGORIES:Schulablauf
END:VEVENT
BEGIN:VEVENT
DTSTART;VALUE=DATE:20210201
DTEND;VALUE=DATE:20210206
DTSTAMP:20260420T040145
CREATED:20210128T174711Z
LAST-MODIFIED:20210128T174711Z
UID:26467-1612137600-1612569599@www.dalberg-gymnasium.de
SUMMARY:Distanzunterricht 5-11
DESCRIPTION:
URL:https://www.dalberg-gymnasium.de/event/distanzunterricht-5-11
CATEGORIES:Schulablauf
END:VEVENT
BEGIN:VEVENT
DTSTART;VALUE=DATE:20210208
DTEND;VALUE=DATE:20210213
DTSTAMP:20260420T040145
CREATED:20210128T174634Z
LAST-MODIFIED:20210128T174634Z
UID:26464-1612742400-1613174399@www.dalberg-gymnasium.de
SUMMARY:Wechselunterricht Q12
DESCRIPTION:
URL:https://www.dalberg-gymnasium.de/event/wechselunterricht-q12-2
CATEGORIES:Schulablauf
END:VEVENT
BEGIN:VEVENT
DTSTART;VALUE=DATE:20210208
DTEND;VALUE=DATE:20210213
DTSTAMP:20260420T040145
CREATED:20210128T174740Z
LAST-MODIFIED:20210128T174740Z
UID:26470-1612742400-1613174399@www.dalberg-gymnasium.de
SUMMARY:Distanzunterricht 5-11
DESCRIPTION:
URL:https://www.dalberg-gymnasium.de/event/distanzunterricht-5-11-2
CATEGORIES:Schulablauf
END:VEVENT
BEGIN:VEVENT
DTSTART;TZID=Europe/Berlin:20210209T190000
DTEND;TZID=Europe/Berlin:20210209T200000
DTSTAMP:20260420T040145
CREATED:20210128T163954Z
LAST-MODIFIED:20210128T165013Z
UID:26429-1612897200-1612900800@www.dalberg-gymnasium.de
SUMMARY:Digitaler Elternabend der Handwerkskammer für Unterfranken
DESCRIPTION:Aufgrund des großen Interesses findet am Dienstag\, 09.02.2021\, von 19.00 bis 20.00 Uhr ein weiterer digitaler Elternabend der Handwerkskammer zur Vielfalt der Berufe im Handwerk statt (Zusatztermine: 02.03.2021 und 16.03.2021). Der digitale Meeting-Raum ist ab 18.45 Uhr geöffnet. Es ist keine Registrierung notwendig. Einfach anklicken und dabei sein! \n 
URL:https://www.dalberg-gymnasium.de/event/digitaler-elternabend-der-handwerkskammer-fuer-unterfranken
CATEGORIES:Berufliche Orientierung
END:VEVENT
BEGIN:VEVENT
DTSTART;VALUE=DATE:20210215
DTEND;VALUE=DATE:20210220
DTSTAMP:20260420T040145
CREATED:20201206T122012Z
LAST-MODIFIED:20210106T162250Z
UID:25212-1613347200-1613779199@www.dalberg-gymnasium.de
SUMMARY:Frühjahrsferien
DESCRIPTION:
URL:https://www.dalberg-gymnasium.de/event/fruehjahrsferien-4
CATEGORIES:Schulablauf
END:VEVENT
BEGIN:VEVENT
DTSTART;VALUE=DATE:20210215
DTEND;VALUE=DATE:20210220
DTSTAMP:20260420T040145
CREATED:20210212T110013Z
LAST-MODIFIED:20210212T110013Z
UID:27121-1613347200-1613779199@www.dalberg-gymnasium.de
SUMMARY:Wechselunterricht Q12
DESCRIPTION:
URL:https://www.dalberg-gymnasium.de/event/wechselunterricht-q12-3
CATEGORIES:Schulablauf
END:VEVENT
BEGIN:VEVENT
DTSTART;VALUE=DATE:20210215
DTEND;VALUE=DATE:20210220
DTSTAMP:20260420T040145
CREATED:20210212T110039Z
LAST-MODIFIED:20210212T110039Z
UID:27124-1613347200-1613779199@www.dalberg-gymnasium.de
SUMMARY:Distanzunterricht 5-11
DESCRIPTION:
URL:https://www.dalberg-gymnasium.de/event/distanzunterricht-5-11-3
CATEGORIES:Schulablauf
END:VEVENT
BEGIN:VEVENT
DTSTART;VALUE=DATE:20210222
DTEND;VALUE=DATE:20210227
DTSTAMP:20260420T040145
CREATED:20210217T140215Z
LAST-MODIFIED:20210217T140215Z
UID:27258-1613952000-1614383999@www.dalberg-gymnasium.de
SUMMARY:Distanzunterricht 5.-11.
DESCRIPTION:
URL:https://www.dalberg-gymnasium.de/event/distanzunterricht-5-11-4
CATEGORIES:Schulablauf
END:VEVENT
BEGIN:VEVENT
DTSTART;VALUE=DATE:20210222
DTEND;VALUE=DATE:20210227
DTSTAMP:20260420T040145
CREATED:20210217T140244Z
LAST-MODIFIED:20210217T140244Z
UID:27261-1613952000-1614383999@www.dalberg-gymnasium.de
SUMMARY:Präsenzunterricht Q12
DESCRIPTION:
URL:https://www.dalberg-gymnasium.de/event/praesenzunterricht-q12
CATEGORIES:Schulablauf
END:VEVENT
BEGIN:VEVENT
DTSTART;TZID=Europe/Berlin:20210225T190000
DTEND;TZID=Europe/Berlin:20210225T200000
DTSTAMP:20260420T040145
CREATED:20210208T144123Z
LAST-MODIFIED:20210218T091844Z
UID:26915-1614279600-1614283200@www.dalberg-gymnasium.de
SUMMARY:Information zur individuellen Lernzeitverkürzung (ILV) in der 9./10. Klasse (8. Klassen; digital)
DESCRIPTION:
URL:https://www.dalberg-gymnasium.de/event/information-zur-ueberholspur-in-der-9-10-klasse-8-klassen-online
CATEGORIES:Schulablauf,Veranstaltung
END:VEVENT
END:VCALENDAR