BEGIN:VCALENDAR
VERSION:2.0
PRODID:-//Dalberg - ECPv6.15.13.1//NONSGML v1.0//EN
CALSCALE:GREGORIAN
METHOD:PUBLISH
X-ORIGINAL-URL:https://www.dalberg-gymnasium.de
X-WR-CALDESC:Veranstaltungen für Dalberg
REFRESH-INTERVAL;VALUE=DURATION:PT1H
X-Robots-Tag:noindex
X-PUBLISHED-TTL:PT1H
BEGIN:VTIMEZONE
TZID:Europe/Berlin
BEGIN:DAYLIGHT
TZOFFSETFROM:+0100
TZOFFSETTO:+0200
TZNAME:CEST
DTSTART:20190331T010000
END:DAYLIGHT
BEGIN:STANDARD
TZOFFSETFROM:+0200
TZOFFSETTO:+0100
TZNAME:CET
DTSTART:20191027T010000
END:STANDARD
BEGIN:DAYLIGHT
TZOFFSETFROM:+0100
TZOFFSETTO:+0200
TZNAME:CEST
DTSTART:20200329T010000
END:DAYLIGHT
BEGIN:STANDARD
TZOFFSETFROM:+0200
TZOFFSETTO:+0100
TZNAME:CET
DTSTART:20201025T010000
END:STANDARD
BEGIN:DAYLIGHT
TZOFFSETFROM:+0100
TZOFFSETTO:+0200
TZNAME:CEST
DTSTART:20210328T010000
END:DAYLIGHT
BEGIN:STANDARD
TZOFFSETFROM:+0200
TZOFFSETTO:+0100
TZNAME:CET
DTSTART:20211031T010000
END:STANDARD
END:VTIMEZONE
BEGIN:VEVENT
DTSTART;VALUE=DATE:20200914
DTEND;VALUE=DATE:20201005
DTSTAMP:20260419T224407
CREATED:20200913T084919Z
LAST-MODIFIED:20200913T084919Z
UID:24052-1600041600-1601855999@www.dalberg-gymnasium.de
SUMMARY:Aktion Stadtradeln
DESCRIPTION:
URL:https://www.dalberg-gymnasium.de/event/aktion-stadtradeln
CATEGORIES:Schulablauf,Veranstaltung
END:VEVENT
BEGIN:VEVENT
DTSTART;TZID=Europe/Berlin:20201001T075000
DTEND;TZID=Europe/Berlin:20201001T110500
DTSTAMP:20260419T224407
CREATED:20200913T085721Z
LAST-MODIFIED:20200913T085721Z
UID:24085-1601538600-1601550300@www.dalberg-gymnasium.de
SUMMARY:Busschule für die 5. Klassen
DESCRIPTION:
URL:https://www.dalberg-gymnasium.de/event/busschule-fuer-die-5-klassen
CATEGORIES:Schulablauf
END:VEVENT
BEGIN:VEVENT
DTSTART;TZID=Europe/Berlin:20201006T190000
DTEND;TZID=Europe/Berlin:20201006T210000
DTSTAMP:20260419T224407
CREATED:20200913T085444Z
LAST-MODIFIED:20200913T085444Z
UID:24073-1602010800-1602018000@www.dalberg-gymnasium.de
SUMMARY:Klassenelternversammlung der 7. Klassen
DESCRIPTION:
URL:https://www.dalberg-gymnasium.de/event/klassenelternversammlung-der-7-klassen
CATEGORIES:Schulablauf,Veranstaltung
END:VEVENT
BEGIN:VEVENT
DTSTART;TZID=Europe/Berlin:20201012T075000
DTEND;TZID=Europe/Berlin:20201012T110500
DTSTAMP:20260419T224407
CREATED:20200913T085752Z
LAST-MODIFIED:20200913T085752Z
UID:24088-1602489000-1602500700@www.dalberg-gymnasium.de
SUMMARY:Busschule für die 5. Klassen
DESCRIPTION:
URL:https://www.dalberg-gymnasium.de/event/busschule-fuer-die-5-klassen-2
CATEGORIES:Schulablauf
END:VEVENT
BEGIN:VEVENT
DTSTART;TZID=Europe/Berlin:20201015T190000
DTEND;TZID=Europe/Berlin:20201015T210000
DTSTAMP:20260419T224407
CREATED:20200913T085519Z
LAST-MODIFIED:20200913T085519Z
UID:24076-1602788400-1602795600@www.dalberg-gymnasium.de
SUMMARY:Klassenelternversammlung der 8. Klassen
DESCRIPTION:
URL:https://www.dalberg-gymnasium.de/event/klassenelternversammlung-der-8-klassen
CATEGORIES:Schulablauf,Veranstaltung
END:VEVENT
BEGIN:VEVENT
DTSTART;TZID=Europe/Berlin:20201019T190000
DTEND;TZID=Europe/Berlin:20201019T210000
DTSTAMP:20260419T224407
CREATED:20200913T085557Z
LAST-MODIFIED:20200913T085557Z
UID:24079-1603134000-1603141200@www.dalberg-gymnasium.de
SUMMARY:Klassenelternversammlung der 9. Klassen
DESCRIPTION:
URL:https://www.dalberg-gymnasium.de/event/klassenelternversammlung-der-9-klassen
CATEGORIES:Schulablauf,Veranstaltung
END:VEVENT
BEGIN:VEVENT
DTSTART;TZID=Europe/Berlin:20201028T190000
DTEND;TZID=Europe/Berlin:20201028T210000
DTSTAMP:20260419T224407
CREATED:20200913T085640Z
LAST-MODIFIED:20200913T085640Z
UID:24082-1603911600-1603918800@www.dalberg-gymnasium.de
SUMMARY:Klassenelternversammlung der 10. Klassen
DESCRIPTION:mit Informationen zur Oberstufe
URL:https://www.dalberg-gymnasium.de/event/klassenelternversammlung-der-10-klassen
CATEGORIES:Schulablauf,Veranstaltung
END:VEVENT
BEGIN:VEVENT
DTSTART;VALUE=DATE:20201031
DTEND;VALUE=DATE:20201107
DTSTAMP:20260419T224407
CREATED:20200913T085835Z
LAST-MODIFIED:20200913T085835Z
UID:24091-1604102400-1604707199@www.dalberg-gymnasium.de
SUMMARY:Herbstferien
DESCRIPTION:
URL:https://www.dalberg-gymnasium.de/event/herbstferien-5
CATEGORIES:Schulablauf
END:VEVENT
END:VCALENDAR