BEGIN:VCALENDAR
VERSION:2.0
PRODID:-//Dalberg - ECPv6.15.13.1//NONSGML v1.0//EN
CALSCALE:GREGORIAN
METHOD:PUBLISH
X-ORIGINAL-URL:https://www.dalberg-gymnasium.de
X-WR-CALDESC:Veranstaltungen für Dalberg
REFRESH-INTERVAL;VALUE=DURATION:PT1H
X-Robots-Tag:noindex
X-PUBLISHED-TTL:PT1H
BEGIN:VTIMEZONE
TZID:Europe/Berlin
BEGIN:DAYLIGHT
TZOFFSETFROM:+0100
TZOFFSETTO:+0200
TZNAME:CEST
DTSTART:20250330T010000
END:DAYLIGHT
BEGIN:STANDARD
TZOFFSETFROM:+0200
TZOFFSETTO:+0100
TZNAME:CET
DTSTART:20251026T010000
END:STANDARD
BEGIN:DAYLIGHT
TZOFFSETFROM:+0100
TZOFFSETTO:+0200
TZNAME:CEST
DTSTART:20260329T010000
END:DAYLIGHT
BEGIN:STANDARD
TZOFFSETFROM:+0200
TZOFFSETTO:+0100
TZNAME:CET
DTSTART:20261025T010000
END:STANDARD
BEGIN:DAYLIGHT
TZOFFSETFROM:+0100
TZOFFSETTO:+0200
TZNAME:CEST
DTSTART:20270328T010000
END:DAYLIGHT
BEGIN:STANDARD
TZOFFSETFROM:+0200
TZOFFSETTO:+0100
TZNAME:CET
DTSTART:20271031T010000
END:STANDARD
END:VTIMEZONE
BEGIN:VEVENT
DTSTART;VALUE=DATE:20260626
DTEND;VALUE=DATE:20260627
DTSTAMP:20260424T133041
CREATED:20250906T190014Z
LAST-MODIFIED:20260111T141511Z
UID:56751-1782432000-1782518399@www.dalberg-gymnasium.de
SUMMARY:Entlassung der Abiturienten
DESCRIPTION:
URL:https://www.dalberg-gymnasium.de/event/entlassung-der-abiturienten-4
END:VEVENT
BEGIN:VEVENT
DTSTART;VALUE=DATE:20260719
DTEND;VALUE=DATE:20260722
DTSTAMP:20260424T133041
CREATED:20250906T190015Z
LAST-MODIFIED:20260111T141512Z
UID:56753-1784419200-1784678399@www.dalberg-gymnasium.de
SUMMARY:Musical-Aufführung 2026
DESCRIPTION:
URL:https://www.dalberg-gymnasium.de/event/musical-auffuehrung-2026
LOCATION:Maingauhalle Kleinostheim
END:VEVENT
BEGIN:VEVENT
DTSTART;VALUE=DATE:20260723
DTEND;VALUE=DATE:20260724
DTSTAMP:20260424T133041
CREATED:20250906T190015Z
LAST-MODIFIED:20260111T141512Z
UID:56754-1784764800-1784851199@www.dalberg-gymnasium.de
SUMMARY:Studienerkundungstag 12.Jgst. (3. ABO Projekttag)
DESCRIPTION:
URL:https://www.dalberg-gymnasium.de/event/studienerkundungstag-12-jgst-3-abo-projekttag
END:VEVENT
BEGIN:VEVENT
DTSTART;VALUE=DATE:20260723
DTEND;VALUE=DATE:20260724
DTSTAMP:20260424T133041
CREATED:20250906T190015Z
LAST-MODIFIED:20260111T141512Z
UID:56755-1784764800-1784851199@www.dalberg-gymnasium.de
SUMMARY:2. Wandertag
DESCRIPTION:
URL:https://www.dalberg-gymnasium.de/event/2-wandertag-3
END:VEVENT
BEGIN:VEVENT
DTSTART;VALUE=DATE:20260724
DTEND;VALUE=DATE:20260725
DTSTAMP:20260424T133041
CREATED:20250906T190016Z
LAST-MODIFIED:20260111T141512Z
UID:56756-1784851200-1784937599@www.dalberg-gymnasium.de
SUMMARY:Sommer-Serenade
DESCRIPTION:
URL:https://www.dalberg-gymnasium.de/event/sommer-serenade-2
LOCATION:Stadttheater
END:VEVENT
BEGIN:VEVENT
DTSTART;VALUE=DATE:20260727
DTEND;VALUE=DATE:20260728
DTSTAMP:20260424T133041
CREATED:20250906T190016Z
LAST-MODIFIED:20260111T141513Z
UID:56757-1785110400-1785196799@www.dalberg-gymnasium.de
SUMMARY:Buchabgabe
DESCRIPTION:
URL:https://www.dalberg-gymnasium.de/event/buchabgabe
END:VEVENT
BEGIN:VEVENT
DTSTART;VALUE=DATE:20260731
DTEND;VALUE=DATE:20260801
DTSTAMP:20260424T133041
CREATED:20250906T190016Z
LAST-MODIFIED:20260111T141513Z
UID:56758-1785456000-1785542399@www.dalberg-gymnasium.de
SUMMARY:Letzter Schultag
DESCRIPTION:
URL:https://www.dalberg-gymnasium.de/event/letzter-schultag-3
END:VEVENT
BEGIN:VEVENT
DTSTART;VALUE=DATE:20260731
DTEND;VALUE=DATE:20260801
DTSTAMP:20260424T133041
CREATED:20250906T190016Z
LAST-MODIFIED:20260111T141513Z
UID:56759-1785456000-1785542399@www.dalberg-gymnasium.de
SUMMARY:Ausgabe der Jahreszeugnisse
DESCRIPTION:
URL:https://www.dalberg-gymnasium.de/event/ausgabe-der-jahreszeugnisse-2
END:VEVENT
BEGIN:VEVENT
DTSTART;VALUE=DATE:20260801
DTEND;VALUE=DATE:20260915
DTSTAMP:20260424T133041
CREATED:20250731T100004Z
LAST-MODIFIED:20260111T141513Z
UID:56091-1785542400-1789430399@www.dalberg-gymnasium.de
SUMMARY:Sommerferien
DESCRIPTION:
URL:https://www.dalberg-gymnasium.de/event/sommerferien-9
END:VEVENT
END:VCALENDAR