BEGIN:VCALENDAR
VERSION:2.0
PRODID:-//Dalberg - ECPv6.15.13.1//NONSGML v1.0//EN
CALSCALE:GREGORIAN
METHOD:PUBLISH
X-WR-CALNAME:Dalberg
X-ORIGINAL-URL:https://www.dalberg-gymnasium.de
X-WR-CALDESC:Veranstaltungen für Dalberg
REFRESH-INTERVAL;VALUE=DURATION:PT1H
X-Robots-Tag:noindex
X-PUBLISHED-TTL:PT1H
BEGIN:VTIMEZONE
TZID:Europe/Berlin
BEGIN:DAYLIGHT
TZOFFSETFROM:+0100
TZOFFSETTO:+0200
TZNAME:CEST
DTSTART:20200329T010000
END:DAYLIGHT
BEGIN:STANDARD
TZOFFSETFROM:+0200
TZOFFSETTO:+0100
TZNAME:CET
DTSTART:20201025T010000
END:STANDARD
BEGIN:DAYLIGHT
TZOFFSETFROM:+0100
TZOFFSETTO:+0200
TZNAME:CEST
DTSTART:20210328T010000
END:DAYLIGHT
BEGIN:STANDARD
TZOFFSETFROM:+0200
TZOFFSETTO:+0100
TZNAME:CET
DTSTART:20211031T010000
END:STANDARD
BEGIN:DAYLIGHT
TZOFFSETFROM:+0100
TZOFFSETTO:+0200
TZNAME:CEST
DTSTART:20220327T010000
END:DAYLIGHT
BEGIN:STANDARD
TZOFFSETFROM:+0200
TZOFFSETTO:+0100
TZNAME:CET
DTSTART:20221030T010000
END:STANDARD
END:VTIMEZONE
BEGIN:VEVENT
DTSTART;VALUE=DATE:20210510
DTEND;VALUE=DATE:20210512
DTSTAMP:20260420T111349
CREATED:20210505T192718Z
LAST-MODIFIED:20210505T192718Z
UID:28655-1620604800-1620777599@www.dalberg-gymnasium.de
SUMMARY:Distanzunterricht 5-10 und Q12; Präsenzunterricht Q11
DESCRIPTION:
URL:https://www.dalberg-gymnasium.de/event/distanzunterricht-5-10-und-q12-praesenzunterricht-q11
CATEGORIES:Schulablauf
END:VEVENT
BEGIN:VEVENT
DTSTART;TZID=Europe/Berlin:20210510T080000
DTEND;TZID=Europe/Berlin:20210512T170000
DTSTAMP:20260420T111349
CREATED:20201206T123208Z
LAST-MODIFIED:20210501T090658Z
UID:25259-1620633600-1620838800@www.dalberg-gymnasium.de
SUMMARY:Anmeldungen für das Schuljahr 2021/22
DESCRIPTION:Bitte vereinbaren Sie einen Termin (06021-451850)\, wenn Sie die Anmeldeunterlagen persönlich vorbeibringen möchten.
URL:https://www.dalberg-gymnasium.de/event/anmeldungen-fuer-das-schuljahr-2021-22
CATEGORIES:Schulablauf
END:VEVENT
END:VCALENDAR