BEGIN:VCALENDAR
VERSION:2.0
PRODID:-//Dalberg - ECPv6.15.13.1//NONSGML v1.0//EN
CALSCALE:GREGORIAN
METHOD:PUBLISH
X-ORIGINAL-URL:https://www.dalberg-gymnasium.de
X-WR-CALDESC:Veranstaltungen für Dalberg
REFRESH-INTERVAL;VALUE=DURATION:PT1H
X-Robots-Tag:noindex
X-PUBLISHED-TTL:PT1H
BEGIN:VTIMEZONE
TZID:Europe/Berlin
BEGIN:DAYLIGHT
TZOFFSETFROM:+0100
TZOFFSETTO:+0200
TZNAME:CEST
DTSTART:20200329T010000
END:DAYLIGHT
BEGIN:STANDARD
TZOFFSETFROM:+0200
TZOFFSETTO:+0100
TZNAME:CET
DTSTART:20201025T010000
END:STANDARD
BEGIN:DAYLIGHT
TZOFFSETFROM:+0100
TZOFFSETTO:+0200
TZNAME:CEST
DTSTART:20210328T010000
END:DAYLIGHT
BEGIN:STANDARD
TZOFFSETFROM:+0200
TZOFFSETTO:+0100
TZNAME:CET
DTSTART:20211031T010000
END:STANDARD
BEGIN:DAYLIGHT
TZOFFSETFROM:+0100
TZOFFSETTO:+0200
TZNAME:CEST
DTSTART:20220327T010000
END:DAYLIGHT
BEGIN:STANDARD
TZOFFSETFROM:+0200
TZOFFSETTO:+0100
TZNAME:CET
DTSTART:20221030T010000
END:STANDARD
END:VTIMEZONE
BEGIN:VEVENT
DTSTART;VALUE=DATE:20210322
DTEND;VALUE=DATE:20210327
DTSTAMP:20260420T083159
CREATED:20210304T123136Z
LAST-MODIFIED:20210304T125300Z
UID:27534-1616371200-1616803199@www.dalberg-gymnasium.de
SUMMARY:Distanzunterricht 5-11; Präsenzunterricht Q12 (falls Inzidenz >100) [unter Vorbehalt]
DESCRIPTION:
URL:https://www.dalberg-gymnasium.de/event/distanzunterricht-5-11-praesenzunterricht-q12-falls-inzidenz-100-2
CATEGORIES:Schulablauf
END:VEVENT
BEGIN:VEVENT
DTSTART;VALUE=DATE:20210322
DTEND;VALUE=DATE:20210327
DTSTAMP:20260420T083159
CREATED:20210304T123404Z
LAST-MODIFIED:20210319T085006Z
UID:27537-1616371200-1616803199@www.dalberg-gymnasium.de
SUMMARY:Wechselunterricht 5-11; Präsenzunterricht Q12
DESCRIPTION:
URL:https://www.dalberg-gymnasium.de/event/wechselunterricht-5-11-praesenzunterricht-falls-inzidenz-zwischen-50-und-100-2
CATEGORIES:Schulablauf
END:VEVENT
END:VCALENDAR