BEGIN:VCALENDAR
VERSION:2.0
PRODID:-//Dalberg - ECPv6.15.13.1//NONSGML v1.0//EN
CALSCALE:GREGORIAN
METHOD:PUBLISH
X-WR-CALNAME:Dalberg
X-ORIGINAL-URL:https://www.dalberg-gymnasium.de
X-WR-CALDESC:Veranstaltungen für Dalberg
REFRESH-INTERVAL;VALUE=DURATION:PT1H
X-Robots-Tag:noindex
X-PUBLISHED-TTL:PT1H
BEGIN:VTIMEZONE
TZID:Europe/Berlin
BEGIN:DAYLIGHT
TZOFFSETFROM:+0100
TZOFFSETTO:+0200
TZNAME:CEST
DTSTART:20200329T010000
END:DAYLIGHT
BEGIN:STANDARD
TZOFFSETFROM:+0200
TZOFFSETTO:+0100
TZNAME:CET
DTSTART:20201025T010000
END:STANDARD
BEGIN:DAYLIGHT
TZOFFSETFROM:+0100
TZOFFSETTO:+0200
TZNAME:CEST
DTSTART:20210328T010000
END:DAYLIGHT
BEGIN:STANDARD
TZOFFSETFROM:+0200
TZOFFSETTO:+0100
TZNAME:CET
DTSTART:20211031T010000
END:STANDARD
BEGIN:DAYLIGHT
TZOFFSETFROM:+0100
TZOFFSETTO:+0200
TZNAME:CEST
DTSTART:20220327T010000
END:DAYLIGHT
BEGIN:STANDARD
TZOFFSETFROM:+0200
TZOFFSETTO:+0100
TZNAME:CET
DTSTART:20221030T010000
END:STANDARD
END:VTIMEZONE
BEGIN:VEVENT
DTSTART;VALUE=DATE:20210301
DTEND;VALUE=DATE:20210306
DTSTAMP:20260420T070427
CREATED:20210226T121320Z
LAST-MODIFIED:20210226T121320Z
UID:27392-1614556800-1614988799@www.dalberg-gymnasium.de
SUMMARY:Distanzunterricht 5.-11.
DESCRIPTION:
URL:https://www.dalberg-gymnasium.de/event/distanzunterricht-5-11-5
CATEGORIES:Schulablauf
END:VEVENT
BEGIN:VEVENT
DTSTART;VALUE=DATE:20210301
DTEND;VALUE=DATE:20210306
DTSTAMP:20260420T070427
CREATED:20210226T121351Z
LAST-MODIFIED:20210226T121351Z
UID:27395-1614556800-1614988799@www.dalberg-gymnasium.de
SUMMARY:Präsenzunterricht Q12
DESCRIPTION:
URL:https://www.dalberg-gymnasium.de/event/praesenzunterricht-q12-2
CATEGORIES:Schulablauf
END:VEVENT
BEGIN:VEVENT
DTSTART;TZID=Europe/Berlin:20210301T183000
DTEND;TZID=Europe/Berlin:20210301T193000
DTSTAMP:20260420T070427
CREATED:20210208T143808Z
LAST-MODIFIED:20210208T145152Z
UID:26906-1614623400-1614627000@www.dalberg-gymnasium.de
SUMMARY:Information zum bilingualen Unterricht (6. Klassen; digital)
DESCRIPTION:6. Klassen mit Englisch als 1. Fremdsprache
URL:https://www.dalberg-gymnasium.de/event/information-zum-bilingualen-unterricht-6-klassen-online
CATEGORIES:Schulablauf,Veranstaltung
END:VEVENT
BEGIN:VEVENT
DTSTART;TZID=Europe/Berlin:20210301T193000
DTEND;TZID=Europe/Berlin:20210301T203000
DTSTAMP:20260420T070427
CREATED:20210208T143923Z
LAST-MODIFIED:20210208T145148Z
UID:26909-1614627000-1614630600@www.dalberg-gymnasium.de
SUMMARY:Information zum bilingualen Unterricht (7c; digital)
DESCRIPTION:für Schüler*innen mit 1. Fremdsprache Französisch
URL:https://www.dalberg-gymnasium.de/event/information-zum-bilingualen-unterricht-7c-online
CATEGORIES:Schulablauf
END:VEVENT
END:VCALENDAR