BEGIN:VCALENDAR
VERSION:2.0
PRODID:-//Dalberg - ECPv6.15.13.1//NONSGML v1.0//EN
CALSCALE:GREGORIAN
METHOD:PUBLISH
X-ORIGINAL-URL:https://www.dalberg-gymnasium.de
X-WR-CALDESC:Veranstaltungen für Dalberg
REFRESH-INTERVAL;VALUE=DURATION:PT1H
X-Robots-Tag:noindex
X-PUBLISHED-TTL:PT1H
BEGIN:VTIMEZONE
TZID:Europe/Berlin
BEGIN:DAYLIGHT
TZOFFSETFROM:+0100
TZOFFSETTO:+0200
TZNAME:CEST
DTSTART:20200329T010000
END:DAYLIGHT
BEGIN:STANDARD
TZOFFSETFROM:+0200
TZOFFSETTO:+0100
TZNAME:CET
DTSTART:20201025T010000
END:STANDARD
BEGIN:DAYLIGHT
TZOFFSETFROM:+0100
TZOFFSETTO:+0200
TZNAME:CEST
DTSTART:20210328T010000
END:DAYLIGHT
BEGIN:STANDARD
TZOFFSETFROM:+0200
TZOFFSETTO:+0100
TZNAME:CET
DTSTART:20211031T010000
END:STANDARD
BEGIN:DAYLIGHT
TZOFFSETFROM:+0100
TZOFFSETTO:+0200
TZNAME:CEST
DTSTART:20220327T010000
END:DAYLIGHT
BEGIN:STANDARD
TZOFFSETFROM:+0200
TZOFFSETTO:+0100
TZNAME:CET
DTSTART:20221030T010000
END:STANDARD
END:VTIMEZONE
BEGIN:VEVENT
DTSTART;VALUE=DATE:20210215
DTEND;VALUE=DATE:20210220
DTSTAMP:20260420T071331
CREATED:20201206T122012Z
LAST-MODIFIED:20210106T162250Z
UID:25212-1613347200-1613779199@www.dalberg-gymnasium.de
SUMMARY:Frühjahrsferien
DESCRIPTION:
URL:https://www.dalberg-gymnasium.de/event/fruehjahrsferien-4
CATEGORIES:Schulablauf
END:VEVENT
BEGIN:VEVENT
DTSTART;VALUE=DATE:20210215
DTEND;VALUE=DATE:20210220
DTSTAMP:20260420T071331
CREATED:20210212T110013Z
LAST-MODIFIED:20210212T110013Z
UID:27121-1613347200-1613779199@www.dalberg-gymnasium.de
SUMMARY:Wechselunterricht Q12
DESCRIPTION:
URL:https://www.dalberg-gymnasium.de/event/wechselunterricht-q12-3
CATEGORIES:Schulablauf
END:VEVENT
BEGIN:VEVENT
DTSTART;VALUE=DATE:20210215
DTEND;VALUE=DATE:20210220
DTSTAMP:20260420T071331
CREATED:20210212T110039Z
LAST-MODIFIED:20210212T110039Z
UID:27124-1613347200-1613779199@www.dalberg-gymnasium.de
SUMMARY:Distanzunterricht 5-11
DESCRIPTION:
URL:https://www.dalberg-gymnasium.de/event/distanzunterricht-5-11-3
CATEGORIES:Schulablauf
END:VEVENT
END:VCALENDAR