BEGIN:VCALENDAR
VERSION:2.0
PRODID:-//Dalberg - ECPv6.15.13.1//NONSGML v1.0//EN
CALSCALE:GREGORIAN
METHOD:PUBLISH
X-ORIGINAL-URL:https://www.dalberg-gymnasium.de
X-WR-CALDESC:Veranstaltungen für Dalberg
REFRESH-INTERVAL;VALUE=DURATION:PT1H
X-Robots-Tag:noindex
X-PUBLISHED-TTL:PT1H
BEGIN:VTIMEZONE
TZID:Europe/Berlin
BEGIN:DAYLIGHT
TZOFFSETFROM:+0100
TZOFFSETTO:+0200
TZNAME:CEST
DTSTART:20200329T010000
END:DAYLIGHT
BEGIN:STANDARD
TZOFFSETFROM:+0200
TZOFFSETTO:+0100
TZNAME:CET
DTSTART:20201025T010000
END:STANDARD
BEGIN:DAYLIGHT
TZOFFSETFROM:+0100
TZOFFSETTO:+0200
TZNAME:CEST
DTSTART:20210328T010000
END:DAYLIGHT
BEGIN:STANDARD
TZOFFSETFROM:+0200
TZOFFSETTO:+0100
TZNAME:CET
DTSTART:20211031T010000
END:STANDARD
BEGIN:DAYLIGHT
TZOFFSETFROM:+0100
TZOFFSETTO:+0200
TZNAME:CEST
DTSTART:20220327T010000
END:DAYLIGHT
BEGIN:STANDARD
TZOFFSETFROM:+0200
TZOFFSETTO:+0100
TZNAME:CET
DTSTART:20221030T010000
END:STANDARD
END:VTIMEZONE
BEGIN:VEVENT
DTSTART;VALUE=DATE:20210201
DTEND;VALUE=DATE:20210206
DTSTAMP:20260420T053203
CREATED:20210128T174559Z
LAST-MODIFIED:20210128T174559Z
UID:26461-1612137600-1612569599@www.dalberg-gymnasium.de
SUMMARY:Wechselunterricht Q12
DESCRIPTION:
URL:https://www.dalberg-gymnasium.de/event/wechselunterricht-q12
CATEGORIES:Schulablauf
END:VEVENT
BEGIN:VEVENT
DTSTART;VALUE=DATE:20210201
DTEND;VALUE=DATE:20210206
DTSTAMP:20260420T053203
CREATED:20210128T174711Z
LAST-MODIFIED:20210128T174711Z
UID:26467-1612137600-1612569599@www.dalberg-gymnasium.de
SUMMARY:Distanzunterricht 5-11
DESCRIPTION:
URL:https://www.dalberg-gymnasium.de/event/distanzunterricht-5-11
CATEGORIES:Schulablauf
END:VEVENT
END:VCALENDAR