BEGIN:VCALENDAR
VERSION:2.0
PRODID:-//Dalberg - ECPv6.15.13.1//NONSGML v1.0//EN
CALSCALE:GREGORIAN
METHOD:PUBLISH
X-WR-CALNAME:Dalberg
X-ORIGINAL-URL:https://www.dalberg-gymnasium.de
X-WR-CALDESC:Veranstaltungen für Dalberg
REFRESH-INTERVAL;VALUE=DURATION:PT1H
X-Robots-Tag:noindex
X-PUBLISHED-TTL:PT1H
BEGIN:VTIMEZONE
TZID:Europe/Berlin
BEGIN:DAYLIGHT
TZOFFSETFROM:+0100
TZOFFSETTO:+0200
TZNAME:CEST
DTSTART:20190331T010000
END:DAYLIGHT
BEGIN:STANDARD
TZOFFSETFROM:+0200
TZOFFSETTO:+0100
TZNAME:CET
DTSTART:20191027T010000
END:STANDARD
BEGIN:DAYLIGHT
TZOFFSETFROM:+0100
TZOFFSETTO:+0200
TZNAME:CEST
DTSTART:20200329T010000
END:DAYLIGHT
BEGIN:STANDARD
TZOFFSETFROM:+0200
TZOFFSETTO:+0100
TZNAME:CET
DTSTART:20201025T010000
END:STANDARD
BEGIN:DAYLIGHT
TZOFFSETFROM:+0100
TZOFFSETTO:+0200
TZNAME:CEST
DTSTART:20210328T010000
END:DAYLIGHT
BEGIN:STANDARD
TZOFFSETFROM:+0200
TZOFFSETTO:+0100
TZNAME:CET
DTSTART:20211031T010000
END:STANDARD
END:VTIMEZONE
BEGIN:VEVENT
DTSTART;TZID=Europe/Berlin:20201116T170000
DTEND;TZID=Europe/Berlin:20201116T200000
DTSTAMP:20260420T011101
CREATED:20200913T085955Z
LAST-MODIFIED:20200913T085955Z
UID:24097-1605546000-1605556800@www.dalberg-gymnasium.de
SUMMARY:Elternsprechabend für die 5. Klassen
DESCRIPTION:
URL:https://www.dalberg-gymnasium.de/event/elternsprechabend-fuer-die-5-klassen-2
CATEGORIES:Schulablauf,Veranstaltung
END:VEVENT
END:VCALENDAR